BEGIN:VCALENDAR
VERSION:2.0
PRODID:-//MHRSB of Lucas County - ECPv6.15.20//NONSGML v1.0//EN
CALSCALE:GREGORIAN
METHOD:PUBLISH
X-ORIGINAL-URL:https://www.lcmhrsb.oh.gov
X-WR-CALDESC:Events for MHRSB of Lucas County
REFRESH-INTERVAL;VALUE=DURATION:PT1H
X-Robots-Tag:noindex
X-PUBLISHED-TTL:PT1H
BEGIN:VTIMEZONE
TZID:UTC
BEGIN:STANDARD
TZOFFSETFROM:+0000
TZOFFSETTO:+0000
TZNAME:UTC
DTSTART:20230101T000000
END:STANDARD
END:VTIMEZONE
BEGIN:VEVENT
DTSTART;TZID=UTC:20240903T160000
DTEND;TZID=UTC:20240903T173000
DTSTAMP:20260426T041314
CREATED:20240906T154034Z
LAST-MODIFIED:20240906T154034Z
UID:1975-1725379200-1725384600@www.lcmhrsb.oh.gov
SUMMARY:September Planning & Oversight Committee Meeting
DESCRIPTION:The public is welcome to attend all public meetings of the Board. \nMeeting packets are available via the MHRSB website MHRSB of Lucas County – MHRSB of Lucas County (oh.gov) under Board Information. \nHard copies will be available at the meeting. \nTo watch the live meeting use this link https://www.lcmhrsb.oh.gov/watch/ \n_______________ \nThe Mental Health and Recovery Services Board of Lucas County strives to ensure a welcoming and safe environment for all visitors attending a Board\, Committee\, or Sub-Committee Meeting. Accordingly\, reasonable accommodations will be made for visitors with special needs when provided 24 hours of prior notice. Additionally\, each meeting will offer an open session to solicit comments from visitors. Visitors wishing to speak during an open session are requested to identify themselves\, the group or agency they represent (if any)\, and the comment topics. Comments are limited to 3 minutes per speaker. \nA new issue brought up by a visitor may not be considered by the Board\, Committee\, or Sub-Committee. At the discretion of the MHRSB or Committee Chairs\, issues brought up by visitors may be forwarded to the Executive Director for follow-up. Sub-committee Chairs may deliver information to their convening committee for consideration. \nFinally\, the Chair reserves the right to recognize visitors during other parts of the Board\, Committee\, or Sub-Committee proceedings if they believe the visitor’s comments would be pertinent to the motion or business being considered. All additional conversations by visitors during meeting proceedings are discouraged. Visitors that disrupt Board\, Committee\, or Sub-Committee meetings may be asked to leave.
URL:https://www.lcmhrsb.oh.gov/event/september-planning-oversight-committee-meeting-3/
LOCATION:MHRSB Board Room\, 333 N. Summit St. Suite 1401\, Toledo\, OH\, 43604\, United States
CATEGORIES:Board Meeting
END:VEVENT
BEGIN:VEVENT
DTSTART;TZID=UTC:20240910T160000
DTEND;TZID=UTC:20240910T173000
DTSTAMP:20260426T041314
CREATED:20240906T154430Z
LAST-MODIFIED:20240906T154430Z
UID:1974-1725984000-1725989400@www.lcmhrsb.oh.gov
SUMMARY:September Executive & Nominating Committee (as needed)
DESCRIPTION:The public is welcome to attend all public meetings of the Board. \nMeeting packets are available via the MHRSB website MHRSB of Lucas County – MHRSB of Lucas County (oh.gov) under Board Information. Hard copies will be available at the meeting. \nTo watch the live meeting use this link https://www.lcmhrsb.oh.gov/watch/ \n_______________ \nThe Mental Health & Recovery Services Board of Lucas County strives to ensure a welcoming and safe environment for all visitors attending a Board\, Committee\, or Sub-Committee Meeting. Accordingly\, reasonable accommodations will be made for visitors with special needs when provided 24 hours of prior notice. Additionally\, each meeting will offer an open session to solicit comments from visitors. Visitors wishing to speak during an open session are requested to identify themselves\, the group or agency they represent (if any)\, and the comment topics. Comments are limited to 3 minutes per speaker. \nA new issue brought up by a visitor may not be considered by the Board\, Committee\, or Sub-Committee. At the discretion of the MHRSB or Committee Chairs\, issues brought up by visitors may be forwarded to the Executive Director for follow-up. Sub-committee Chairs may deliver information to their convening committee for consideration. \nFinally\, the Chair reserves the right to recognize visitors during other parts of the Board\, Committee\, or Sub-Committee proceedings if they believe the visitor’s comments would be pertinent to the motion or business being considered. All additional conversations by visitors during meeting proceedings are discouraged. Visitors that disrupt Board\, Committee\, or Sub-Committee meetings may be asked to leave.
URL:https://www.lcmhrsb.oh.gov/event/september-executive-nominating-committee-as-needed/
LOCATION:MHRSB Board Room\, 333 N. Summit St. Suite 1401\, Toledo\, OH\, 43604\, United States
CATEGORIES:Board Meeting
END:VEVENT
BEGIN:VEVENT
DTSTART;TZID=UTC:20240914T110000
DTEND;TZID=UTC:20240914T140000
DTSTAMP:20260426T041314
CREATED:20240909T200613Z
LAST-MODIFIED:20240909T201552Z
UID:1982-1726311600-1726322400@www.lcmhrsb.oh.gov
SUMMARY:Recovery is Beautiful
DESCRIPTION:Please join us on September 14 at the Thomas M Wernert Center for our Annual Recovery is Beautiful Free Family Festival. \n\nLet’s come together and break down the walls of stigma by celebrating Recovery as wonderful\, and beautiful.\n\n\n\nWhen: Saturday Sept 14th\, 11am-2pm\nWhere: Thomas M Wernert Center
URL:https://www.lcmhrsb.oh.gov/event/recovery-is-beautiful/
LOCATION:Thomas M. Wernert Center\, 208 W Woodruff Ave\, Toledo\, OH\, 43604
CATEGORIES:Community Event
END:VEVENT
BEGIN:VEVENT
DTSTART;TZID=UTC:20240917T160000
DTEND;TZID=UTC:20240917T173000
DTSTAMP:20260426T041314
CREATED:20230710T185124Z
LAST-MODIFIED:20240906T155152Z
UID:1900-1726588800-1726594200@www.lcmhrsb.oh.gov
SUMMARY:September 2024 Board of Trustees Meeting
DESCRIPTION:The public is welcome to attend all public meetings of the Board. \nMeeting packets are available via the MHRSB website MHRSB of Lucas County – MHRSB of Lucas County (oh.gov) under Board Information. Hard copies will be available at the meeting. \nTo watch the live meeting use this link https://www.lcmhrsb.oh.gov/watch/ \n_______________ \nThe Mental Health & Recovery Services Board of Lucas County strives to ensure a welcoming and safe environment for all visitors attending a Board\, Committee\, or Sub-Committee Meeting. Accordingly\, reasonable accommodations will be made for visitors with special needs when provided 24 hours of prior notice. Additionally\, each meeting will offer an open session to solicit comments from visitors. Visitors wishing to speak during an open session are requested to identify themselves\, the group or agency they represent (if any)\, and the comment topics. Comments are limited to 3 minutes per speaker. \nA new issue brought up by a visitor may not be considered by the Board\, Committee\, or Sub-Committee. At the discretion of the MHRSB or Committee Chairs\, issues brought up by visitors may be forwarded to the Executive Director for follow-up. Sub-committee Chairs may deliver information to their convening committee for consideration. \nFinally\, the Chair reserves the right to recognize visitors during other parts of the Board\, Committee\, or Sub-Committee proceedings if they believe the visitor’s comments would be pertinent to the motion or business being considered. All additional conversations by visitors during meeting proceedings are discouraged. Visitors that disrupt Board\, Committee\, or Sub-Committee meetings may be asked to leave.
URL:https://www.lcmhrsb.oh.gov/event/june-2024-board-of-trustees-meeting/
LOCATION:MHRSB Board Room\, 333 N. Summit St. Suite 1401\, Toledo\, OH\, 43604\, United States
CATEGORIES:Board Meeting
END:VEVENT
BEGIN:VEVENT
DTSTART;TZID=UTC:20240923T130000
DTEND;TZID=UTC:20240923T150000
DTSTAMP:20260426T041314
CREATED:20240909T212759Z
LAST-MODIFIED:20240923T144020Z
UID:1988-1727096400-1727103600@www.lcmhrsb.oh.gov
SUMMARY:Community Mental Wellness Grant Info Meeting/Virtual
DESCRIPTION:This round of funding includes ten Grants of up to $20\,000 per project available for organizations that will focus on reducing the impact of mental illness and addiction on individuals and families in Lucas County and reducing violence and the effects of violence within Toledo.\n\nWe will host a meeting on September 23\, 2024\, at 1 pm for interested applicants. \nClick the link to join the virtual meeting> https://teams.microsoft.com/l/meetup-join/19%3ameeting_MDk5YTMyNDctZTI4ZS00ZDVmLTg5YjMtZjVkYTlkZjA0YzA5%40thread.v2/0?context=%7b%22Tid%22%3a%22039799e9-7e88-4931-95aa-fa758ebb179f%22%2c%22Oid%22%3a%222aae8d15-7df6-4d77-8b25-96874f10c4c0%22%7d \nIt may ask you for a Meeting ID and Passcode. \nMeeting ID: 216 413 199 915 \nPasscode: KCUcWS \nIf you have any trouble accessing the meeting link\, please contact Fkelleher@lcmhrsb.oh.gov \nCompleted Proposals are due November 1\, 2024\, at 5 pm. \n\n\n\nFor more info and to apply\, visit> www.lcmhrsb.oh.gov/minigrant/ \n\n\nPlease direct all questions to rkasprzak@lcmhrsb.oh.gov 
URL:https://www.lcmhrsb.oh.gov/event/community-mental-wellness-grant-info-meeting/
LOCATION:Virtual
CATEGORIES:Community Event
END:VEVENT
END:VCALENDAR