BEGIN:VCALENDAR
VERSION:2.0
PRODID:-//MHRSB of Lucas County - ECPv6.15.20//NONSGML v1.0//EN
CALSCALE:GREGORIAN
METHOD:PUBLISH
X-WR-CALNAME:MHRSB of Lucas County
X-ORIGINAL-URL:https://www.lcmhrsb.oh.gov
X-WR-CALDESC:Events for MHRSB of Lucas County
REFRESH-INTERVAL;VALUE=DURATION:PT1H
X-Robots-Tag:noindex
X-PUBLISHED-TTL:PT1H
BEGIN:VTIMEZONE
TZID:UTC
BEGIN:STANDARD
TZOFFSETFROM:+0000
TZOFFSETTO:+0000
TZNAME:UTC
DTSTART:20240101T000000
END:STANDARD
END:VTIMEZONE
BEGIN:VEVENT
DTSTART;TZID=UTC:20251202T160000
DTEND;TZID=UTC:20251202T173000
DTSTAMP:20260419T152647
CREATED:20251202T181215Z
LAST-MODIFIED:20251202T181215Z
UID:2151-1764691200-1764696600@www.lcmhrsb.oh.gov
SUMMARY:CANCELED December Planning & Oversight Committee Meeting
DESCRIPTION:IMPORTANT: Trustee Meeting CANCELED for Today & All of December \nPlease note: The Trustee Meeting scheduled for today\, December 2nd\, at 4 PM\, is canceled. \nThere will be NO Trustee Meetings throughout December as our focus is on an important Strategic Planning Session on December 11th. \nMeetings will resume at their regular day and time in January. \nFor more information on our strategic planning\, please contact us! \n_______________ \nTo watch the live meeting use this link https://www.lcmhrsb.oh.gov/watch/ \n_______________ \nThe Mental Health and Recovery Services Board of Lucas County strives to ensure a welcoming and safe environment for all visitors attending a Board\, Committee\, or Sub-Committee Meeting. Accordingly\, reasonable accommodations will be made for visitors with special needs when provided 24 hours of prior notice. Additionally\, each meeting will offer an open session to solicit comments from visitors. Visitors wishing to speak during an open session are requested to identify themselves\, the group or agency they represent (if any)\, and the comment topics. Comments are limited to 3 minutes per speaker. \nA new issue brought up by a visitor may not be considered by the Board\, Committee\, or Sub-Committee. At the discretion of the MHRSB or Committee Chairs\, issues brought up by visitors may be forwarded to the Executive Director for follow-up. Sub-committee Chairs may deliver information to their convening committee for consideration. \nFinally\, the Chair reserves the right to recognize visitors during other parts of the Board\, Committee\, or Sub-Committee proceedings if they believe the visitor’s comments would be pertinent to the motion or business being considered. All additional conversations by visitors during meeting proceedings are discouraged. Visitors that disrupt Board\, Committee\, or Sub-Committee meetings may be asked to leave.
URL:https://www.lcmhrsb.oh.gov/event/canceled-december-planning-oversight-committee-meeting/
LOCATION:MHRSB Board Room\, 333 N. Summit St. Suite 1401\, Toledo\, OH\, 43604\, United States
CATEGORIES:Board Meeting
END:VEVENT
BEGIN:VEVENT
DTSTART;TZID=UTC:20251211T121500
DTEND;TZID=UTC:20251211T170000
DTSTAMP:20260419T152647
CREATED:20251208T161611Z
LAST-MODIFIED:20251208T161632Z
UID:2158-1765455300-1765472400@www.lcmhrsb.oh.gov
SUMMARY:December 2025 Board of Trustees & Strategy Planning Session
DESCRIPTION:The public is welcome to attend all public meetings of the Board. \nMeeting packets are available via the MHRSB website MHRSB of Lucas County – MHRSB of Lucas County (oh.gov) under Board Information. \nHard copies will be available at the meeting. \nThis meeting will not be live streamed. \n_______________ \nThe Mental Health & Recovery Services Board of Lucas County strives to ensure a welcoming and safe environment for all visitors attending a Board\, Committee\, or Sub-Committee Meeting. Accordingly\, reasonable accommodations will be made for visitors with special needs when provided 24 hours of prior notice. Additionally\, each meeting will offer an open session to solicit comments from visitors. Visitors wishing to speak during an open session are requested to identify themselves\, the group or agency they represent (if any)\, and the comment topics. Comments are limited to 3 minutes per speaker. \nA new issue brought up by a visitor may not be considered by the Board\, Committee\, or Sub-Committee. At the discretion of the MHRSB or Committee Chairs\, issues brought up by visitors may be forwarded to the Executive Director for follow-up. Sub-committee Chairs may deliver information to their convening committee for consideration. \nFinally\, the Chair reserves the right to recognize visitors during other parts of the Board\, Committee\, or Sub-Committee proceedings if they believe the visitor’s comments would be pertinent to the motion or business being considered. All additional conversations by visitors during meeting proceedings are discouraged. Visitors that disrupt Board\, Committee\, or Sub-Committee meetings may be asked to leave.
URL:https://www.lcmhrsb.oh.gov/event/december-2025-board-of-trustees-strategy-planning-session/
LOCATION:MHRSB Board Room\, 333 N. Summit St. Suite 1401\, Toledo\, OH\, 43604\, United States
CATEGORIES:Board Meeting
END:VEVENT
BEGIN:VEVENT
DTSTART;TZID=UTC:20251216T160000
DTEND;TZID=UTC:20251216T173000
DTSTAMP:20260419T152647
CREATED:20251202T181609Z
LAST-MODIFIED:20251202T181609Z
UID:2153-1765900800-1765906200@www.lcmhrsb.oh.gov
SUMMARY:CANCELED December 2025 Board of Trustees Meeting
DESCRIPTION:IMPORTANT: Trustee Meeting CANCELED for Today & All of December \nPlease note: The Trustee Meeting scheduled for today\, December 16th\, at 4 PM\, is canceled. \nThere will be NO Trustee Meetings throughout December as our focus is on an important Strategic Planning Session. \nMeetings will resume at their regular day and time in January. \nFor more information on our strategic planning\, please contact us! \nTo watch the live meeting use this link https://www.lcmhrsb.oh.gov/watch/ \n_______________ \nThe Mental Health & Recovery Services Board of Lucas County strives to ensure a welcoming and safe environment for all visitors attending a Board\, Committee\, or Sub-Committee Meeting. Accordingly\, reasonable accommodations will be made for visitors with special needs when provided 24 hours of prior notice. Additionally\, each meeting will offer an open session to solicit comments from visitors. Visitors wishing to speak during an open session are requested to identify themselves\, the group or agency they represent (if any)\, and the comment topics. Comments are limited to 3 minutes per speaker. \nA new issue brought up by a visitor may not be considered by the Board\, Committee\, or Sub-Committee. At the discretion of the MHRSB or Committee Chairs\, issues brought up by visitors may be forwarded to the Executive Director for follow-up. Sub-committee Chairs may deliver information to their convening committee for consideration. \nFinally\, the Chair reserves the right to recognize visitors during other parts of the Board\, Committee\, or Sub-Committee proceedings if they believe the visitor’s comments would be pertinent to the motion or business being considered. All additional conversations by visitors during meeting proceedings are discouraged. Visitors that disrupt Board\, Committee\, or Sub-Committee meetings may be asked to leave.
URL:https://www.lcmhrsb.oh.gov/event/canceled-december-2025-board-of-trustees-meeting/
LOCATION:MHRSB Board Room\, 333 N. Summit St. Suite 1401\, Toledo\, OH\, 43604\, United States
CATEGORIES:Board Meeting
END:VEVENT
END:VCALENDAR